BEGIN:VCALENDAR
VERSION:2.0
PRODID:-//Music and Beyond - ECPv6.15.18//NONSGML v1.0//EN
CALSCALE:GREGORIAN
METHOD:PUBLISH
X-WR-CALNAME:Music and Beyond
X-ORIGINAL-URL:https://musicandbeyond.ca
X-WR-CALDESC:Events for Music and Beyond
REFRESH-INTERVAL;VALUE=DURATION:PT1H
X-Robots-Tag:noindex
X-PUBLISHED-TTL:PT1H
BEGIN:VTIMEZONE
TZID:America/Toronto
BEGIN:DAYLIGHT
TZOFFSETFROM:-0500
TZOFFSETTO:-0400
TZNAME:EDT
DTSTART:20250309T070000
END:DAYLIGHT
BEGIN:STANDARD
TZOFFSETFROM:-0400
TZOFFSETTO:-0500
TZNAME:EST
DTSTART:20251102T060000
END:STANDARD
BEGIN:DAYLIGHT
TZOFFSETFROM:-0500
TZOFFSETTO:-0400
TZNAME:EDT
DTSTART:20260308T070000
END:DAYLIGHT
BEGIN:STANDARD
TZOFFSETFROM:-0400
TZOFFSETTO:-0500
TZNAME:EST
DTSTART:20261101T060000
END:STANDARD
BEGIN:DAYLIGHT
TZOFFSETFROM:-0500
TZOFFSETTO:-0400
TZNAME:EDT
DTSTART:20270314T070000
END:DAYLIGHT
BEGIN:STANDARD
TZOFFSETFROM:-0400
TZOFFSETTO:-0500
TZNAME:EST
DTSTART:20271107T060000
END:STANDARD
END:VTIMEZONE
BEGIN:VEVENT
DTSTART;TZID=America/Toronto:20260717T193000
DTEND;TZID=America/Toronto:20260717T213000
DTSTAMP:20260423T055119
CREATED:20260123T180306Z
LAST-MODIFIED:20260318T161009Z
UID:10000083-1784316600-1784323800@musicandbeyond.ca
SUMMARY:Closing Gala: Festival by Request / Gala de clôture : Festival sur demande
DESCRIPTION:Closing Gala: Festival By Request | Gala de clôture: Festival sur demande \nFriday\, July 17\, 2026 at 7:30 pm \nLe vendredi 17 juillet 2026 à 19 h 30 \n  \nThis event is included with your pass! | Cet événement est inclus dans votre passeport !\nClick here to purchase your pass! | Cliquez ici pour acheter votre passeport ! \n  \nThe program is up to YOU!\nWe want you to be a part of our very special Closing Gala on July 17\, 2026. We have a fantastic roster of performers all waiting for you to decide what they will play! \nE-mail us with what you’d like to hear played at the Closing Celebration of the Festival and tell us why you’ve picked it. We’re looking for the stories behind why you love this piece of music. \nIf your music and story is selected for this concert\, you will win ten tickets to invite friends and family. There will also be one Grand Prize Winner who will win two passes to the 2027 Music and Beyond festival. \nRules to enter: \nPlease suggest a piece of music for us to include and why you would like to hear it. It can be for one player or many players\, including for orchestra or for choir. If your piece is chosen\, we will try to find the instrument(s) or voice type you have requested. \nPlease send your suggestion to info@musicandbeyond.ca no later than May 31\, 2026. \nParticipez à la programmation !\nLe 17 juillet 2026\, nous vous invitons à participer à notre très spécial concert de clôture. Nous avons une liste fantastique d’artistes qui n’attendent que vous pour décider de ce qu’ils joueront ! \nEnvoyez-nous un courriel expliquant quel morceau vous aimeriez entendre jouer lors de la clôture du festival et dites-nous pourquoi vous l’avez choisi. Nous voulons connaître les raisons pour lesquelles vous aimez ce morceau de musique. \nSi votre musique et votre récit sont sélectionnés pour ce concert\, vous gagnerez dix billets vous permettant d’inviter vos amis et votre famille. Il y aura également un gagnant du grand prix qui remportera deux passeports pour le Festival Musique et Autres Mondes 2027. \nRègles de participation : \nProposez-nous un morceau de musique et expliquez-nous pourquoi vous aimeriez l’entendre. Il peut s’agir d’un morceau pour un ou plusieurs interprètes\, pour orchestre ou pour chœur. Si votre morceau est choisi\, nous essaierons de trouver le(s) instrument(s) ou le type de voix que vous avez demandé. \nVeuillez envoyer votre suggestion à info@musicandbeyond.ca au plus tard le 31 mai à 23 h 59. \n  \nArtists | Artistes \nCaelis Academy Ensemble \nMatthew Larkin – conductor\, piano and organ | chef\, piano et orgue \nThirteen Strings\n \n  \nClosing Gala: Festival By Request | Gala de clôture: Festival sur demande \nCarleton Dominion-Chalmers Centre \nAir conditioned! | Air climatisé!  
URL:https://musicandbeyond.ca/event/closing-gala-festival-by-request-gala-de-cloture-festival-sur-demande-2026/
LOCATION:Carleton Dominion-Chalmers Centre\, 290 Lisgar Street\, Ottawa\, ON\, K2P 0G8\, Canada
CATEGORIES:Season 2026
ATTACH;FMTTYPE=image/jpeg:https://musicandbeyond.ca/wp-content/uploads/2026/01/Festival-by-Request.jpg
ORGANIZER;CN="Music and Beyond Performing Arts":MAILTO:boxoffice@musicandbeyond.ca
END:VEVENT
END:VCALENDAR