BEGIN:VCALENDAR
VERSION:2.0
PRODID:-//Music and Beyond - ECPv6.15.18//NONSGML v1.0//EN
CALSCALE:GREGORIAN
METHOD:PUBLISH
X-WR-CALNAME:Music and Beyond
X-ORIGINAL-URL:https://musicandbeyond.ca
X-WR-CALDESC:Events for Music and Beyond
REFRESH-INTERVAL;VALUE=DURATION:PT1H
X-Robots-Tag:noindex
X-PUBLISHED-TTL:PT1H
BEGIN:VTIMEZONE
TZID:America/Toronto
BEGIN:DAYLIGHT
TZOFFSETFROM:-0500
TZOFFSETTO:-0400
TZNAME:EDT
DTSTART:20250309T070000
END:DAYLIGHT
BEGIN:STANDARD
TZOFFSETFROM:-0400
TZOFFSETTO:-0500
TZNAME:EST
DTSTART:20251102T060000
END:STANDARD
BEGIN:DAYLIGHT
TZOFFSETFROM:-0500
TZOFFSETTO:-0400
TZNAME:EDT
DTSTART:20260308T070000
END:DAYLIGHT
BEGIN:STANDARD
TZOFFSETFROM:-0400
TZOFFSETTO:-0500
TZNAME:EST
DTSTART:20261101T060000
END:STANDARD
BEGIN:DAYLIGHT
TZOFFSETFROM:-0500
TZOFFSETTO:-0400
TZNAME:EDT
DTSTART:20270314T070000
END:DAYLIGHT
BEGIN:STANDARD
TZOFFSETFROM:-0400
TZOFFSETTO:-0500
TZNAME:EST
DTSTART:20271107T060000
END:STANDARD
END:VTIMEZONE
BEGIN:VEVENT
DTSTART;TZID=America/Toronto:20260715T193000
DTEND;TZID=America/Toronto:20260716T213000
DTSTAMP:20260422T095017
CREATED:20260109T194944Z
LAST-MODIFIED:20260127T175956Z
UID:10000081-1784143800-1784237400@musicandbeyond.ca
SUMMARY:Payadora Tango Ensemble
DESCRIPTION:This event is included with your pass! | Cet événement est inclus dans votre passeport !\nClick here to purchase your pass! | Cliquez ici pour acheter votre passeport ! \n  \nPayadora Tango Ensemble \nWednesday\, July 15\, 2026 at 7:30 pm \nLe mercredi 15 juillet 2026 à 19 h 30 \n\nArtists | Artistes \nPayadora Tango Ensemble \nRebekah Wolkstein – violin & voice | violon et voix \nDrew Jurecka – bandoneon\, violin & mandolin | bandonéon\, violon et mandoline \nMark Camilleri –  piano \nElbio Fernandez – voice | voix \nJoe Phillips – bass and guitar | basse et guitare \nwith | avec \nTangodeoro \nRoxana and Fabian Belmonte – tango dancers | danseurs de tango \n  \nProgram | Programme \nProgram coming soon! | Programme à venir ! \n  \n \n  \nCarleton Dominion-Chalmers Centre \nAir conditioned! | Air climatisé!  
URL:https://musicandbeyond.ca/event/payadora-tango-ensemble/
LOCATION:Carleton Dominion-Chalmers Centre\, 290 Lisgar Street\, Ottawa\, ON\, K2P 0G8\, Canada
CATEGORIES:Season 2026
ATTACH;FMTTYPE=image/jpeg:https://musicandbeyond.ca/wp-content/uploads/2026/01/Payadora-Tango-Ensemble1.jpg
ORGANIZER;CN="Music and Beyond Performing Arts":MAILTO:boxoffice@musicandbeyond.ca
END:VEVENT
BEGIN:VEVENT
DTSTART;TZID=America/Toronto:20260716T140000
DTEND;TZID=America/Toronto:20260716T160000
DTSTAMP:20260422T095017
CREATED:20260220T183320Z
LAST-MODIFIED:20260318T160616Z
UID:10000093-1784210400-1784217600@musicandbeyond.ca
SUMMARY:The Delinquent Monk / Le Moine délinquant
DESCRIPTION:This event is included with your pass! | Cet événement est inclus dans votre passeport !\nClick here to purchase your pass! | Cliquez ici pour acheter votre passeport ! \n  \nThe Delinquent Monk: Paris through the eyes of Francis Poulenc \nLe Moine délinquant : Paris à travers les yeux de Francis Poulenc  \nThursday\, July 16\, 2026 at 2:00 pm \nLe jeudi 16 juillet 2026 à 14 h 00 \n  \nArtists | Artistes \nTom Allen – narration\, trombone   \nDrew Jurecka – violin\, accordion\, saxophone | violon\, accordéon\, saxophone  \nRebekah Wolkstein – violin\, voice\, guitar | violon\, voix\, guitare  \nLori Gemmell – harp\, voice\, trumpet | harpe\, voix\, trompette  \nClark Schaufele – piano  \n  \nArtist Description of the Event  \n“The idea is to chart the musical life of Paris from 1928 – 1945 through the eyes of the great Poulenc\, who was alternately and equally interested in the city’s nightlife\, church life and expression through the highest of high art. From the roaring\, carefree jazz age\, into the instability of the depression and the increasing awareness of the surrounding rise of fascism in Italy (to the east)\, then Spain (to the west) then Germany. Poulenc lived in Paris through it all\, and his music (and the music of other Parisian greats) reflects a great society living next to an increasingly menacing and aggressive power\, while still maintaining its own character and\, as Poulenc did\, ultimately surviving and prevailing.” \n– Tom Allen \n  \nPrésentation artistique de l’événement  \n« L’idée est de retracer la vie musicale de Paris de 1928 à 1945 à travers le regard du grand Poulenc\, qui s’intéressait tour à tour et avec le même enthousiasme à la vie nocturne de la ville\, à sa vie religieuse et à l’expression artistique la plus élevée. Des années folles\, vibrantes et insouciantes\, à l’instabilité de la Dépression et à la prise de conscience croissante de la montée du fascisme en Italie (à l’est)\, puis en Espagne (à l’ouest)\, puis en Allemagne. Poulenc a vécu à Paris à travers toutesces périodes\, et sa musique\, ainsi que celle d’autres grands compositeurs parisiens\, reflète une grande société vivant aux côtés d’une puissance de plus en plus menaçante et agressive\, tout en conservant son propre caractère et\, comme Poulenc lui-même\, en survivant et en triomphant finalement. » \n– Tom Allen \n  \n  \nChurch of St. Barnabas \nAir conditioned! | Air climatisé! 
URL:https://musicandbeyond.ca/event/the-delinquent-monk-paris-through-the-eyes-of-francis-poulenc-le-moine-delinquant-paris-a-travers-les-yeux-de-francis-poulenc/
LOCATION:Private: Church of St. Barnabas\, 70 James St\, Ottawa\, Ontario\, K1R 5M3\, Canada
CATEGORIES:Season 2026
ATTACH;FMTTYPE=image/jpeg:https://musicandbeyond.ca/wp-content/uploads/2026/02/The-Delinquent-Monk-Le-Moine-delinquant.jpg
ORGANIZER;CN="Music and Beyond Performing Arts":MAILTO:boxoffice@musicandbeyond.ca
END:VEVENT
BEGIN:VEVENT
DTSTART;TZID=America/Toronto:20260716T193000
DTEND;TZID=America/Toronto:20260716T213000
DTSTAMP:20260422T095017
CREATED:20251216T185630Z
LAST-MODIFIED:20260226T184132Z
UID:10000078-1784230200-1784237400@musicandbeyond.ca
SUMMARY:The Hannaford Street Silver Band
DESCRIPTION:This is a Premium Event. Regular and Youth Passholders can select the discounted “…with Pass” tickets. Click here to buy your Pass. |\nCet événement est un événement Premium. Les détenteurs d’un passeport Régulier ou Jeunes peuvent sélectionner les billets è tarif réduit « …avec passeport ». Cliquez ici pour acheter votre passeport. \n  \nThe Hannaford Street Silver Band \nThursday\, July 16\, 2026 at 7:30 pm \nLe jeudi 16 juillet 2026 à 19 h 30 \nPremium Event | Événement premium \n  \nArtists | Artistes  \nKaren Donnelly – trumpet | trompette  \nThe Hannaford Streed Silver Band  \nCynthia Johnston-Turner – conductor | chef  \n  \nProgram | Programme \nJudith Bingham (1952 – ) – Four Minute Mile  \nAaron Copland (1900 – 1990) (arr. Howard)– Hoe Down   \nElizabeth Raum (1945 – ) – Lydian Variations  \nJohn Estacio (1966 – ) – Triton’s Trumpet\nwith | avec Karen Donnelly – trumpet | trompette  \n  \nIntermission | Entracte  \n  \nRob Teehan (1983 – ) – Wildfire    \nJoy Webb (1932 – 2023) (arr. Ivor Bosanko) – Share My Yoke\nwith | avec Karen Donnelly – trumpet | trompette  \nLen Ballantine – Mariposa Sketches  \n1. Dockside \n2. Summer Haze \n3. At The Bandshell \n4. Lovers Stroll Down Main Street \n5. At The Fair  \nJoseph Turrin (1947 – ) – Fandango \nwith | avec Karen Donnelly – trumpet | trompette & David Pell – trombone  \nPeter Graham (1958 – ) – Windows of the World  \n  \nCarleton Dominion-Chalmers Centre \nAir conditioned! | Air climatisé! 
URL:https://musicandbeyond.ca/event/hannaford-street-silver-band/
LOCATION:Carleton Dominion-Chalmers Centre\, 290 Lisgar Street\, Ottawa\, ON\, K2P 0G8\, Canada
CATEGORIES:Season 2026
ATTACH;FMTTYPE=image/jpeg:https://musicandbeyond.ca/wp-content/uploads/2025/12/Hannaford-Street-Silver-Band_event-banner_2.jpg
ORGANIZER;CN="Music and Beyond Performing Arts":MAILTO:boxoffice@musicandbeyond.ca
END:VEVENT
BEGIN:VEVENT
DTSTART;TZID=America/Toronto:20260717T193000
DTEND;TZID=America/Toronto:20260717T213000
DTSTAMP:20260422T095017
CREATED:20260123T180306Z
LAST-MODIFIED:20260318T161009Z
UID:10000083-1784316600-1784323800@musicandbeyond.ca
SUMMARY:Closing Gala: Festival by Request / Gala de clôture : Festival sur demande
DESCRIPTION:Closing Gala: Festival By Request | Gala de clôture: Festival sur demande \nFriday\, July 17\, 2026 at 7:30 pm \nLe vendredi 17 juillet 2026 à 19 h 30 \n  \nThis event is included with your pass! | Cet événement est inclus dans votre passeport !\nClick here to purchase your pass! | Cliquez ici pour acheter votre passeport ! \n  \nThe program is up to YOU!\nWe want you to be a part of our very special Closing Gala on July 17\, 2026. We have a fantastic roster of performers all waiting for you to decide what they will play! \nE-mail us with what you’d like to hear played at the Closing Celebration of the Festival and tell us why you’ve picked it. We’re looking for the stories behind why you love this piece of music. \nIf your music and story is selected for this concert\, you will win ten tickets to invite friends and family. There will also be one Grand Prize Winner who will win two passes to the 2027 Music and Beyond festival. \nRules to enter: \nPlease suggest a piece of music for us to include and why you would like to hear it. It can be for one player or many players\, including for orchestra or for choir. If your piece is chosen\, we will try to find the instrument(s) or voice type you have requested. \nPlease send your suggestion to info@musicandbeyond.ca no later than May 31\, 2026. \nParticipez à la programmation !\nLe 17 juillet 2026\, nous vous invitons à participer à notre très spécial concert de clôture. Nous avons une liste fantastique d’artistes qui n’attendent que vous pour décider de ce qu’ils joueront ! \nEnvoyez-nous un courriel expliquant quel morceau vous aimeriez entendre jouer lors de la clôture du festival et dites-nous pourquoi vous l’avez choisi. Nous voulons connaître les raisons pour lesquelles vous aimez ce morceau de musique. \nSi votre musique et votre récit sont sélectionnés pour ce concert\, vous gagnerez dix billets vous permettant d’inviter vos amis et votre famille. Il y aura également un gagnant du grand prix qui remportera deux passeports pour le Festival Musique et Autres Mondes 2027. \nRègles de participation : \nProposez-nous un morceau de musique et expliquez-nous pourquoi vous aimeriez l’entendre. Il peut s’agir d’un morceau pour un ou plusieurs interprètes\, pour orchestre ou pour chœur. Si votre morceau est choisi\, nous essaierons de trouver le(s) instrument(s) ou le type de voix que vous avez demandé. \nVeuillez envoyer votre suggestion à info@musicandbeyond.ca au plus tard le 31 mai à 23 h 59. \n  \nArtists | Artistes \nCaelis Academy Ensemble \nMatthew Larkin – conductor\, piano and organ | chef\, piano et orgue \nThirteen Strings\n \n  \nClosing Gala: Festival By Request | Gala de clôture: Festival sur demande \nCarleton Dominion-Chalmers Centre \nAir conditioned! | Air climatisé!  
URL:https://musicandbeyond.ca/event/closing-gala-festival-by-request-gala-de-cloture-festival-sur-demande-2026/
LOCATION:Carleton Dominion-Chalmers Centre\, 290 Lisgar Street\, Ottawa\, ON\, K2P 0G8\, Canada
CATEGORIES:Season 2026
ATTACH;FMTTYPE=image/jpeg:https://musicandbeyond.ca/wp-content/uploads/2026/01/Festival-by-Request.jpg
ORGANIZER;CN="Music and Beyond Performing Arts":MAILTO:boxoffice@musicandbeyond.ca
END:VEVENT
END:VCALENDAR